BEGIN:VCALENDAR
VERSION:2.0
METHOD:PUBLISH
PRODID:-//Telerik Inc.//Sitefinity CMS 14.4//EN
BEGIN:VEVENT
DESCRIPTION:Location: Hotel AKA Alexandria\nAddress: 625 First Street\, Ale
 xandria\, VA\nEmail: info@nvds.org\nPhone: 703/642-5297\n\n~Save the Date~
 Tooth Talks: The Mid-Atlantic Dental Meeting is a new\, one-day continuing
  education and networking program for dentists and team members in Norther
 n Virginia and Washington\, DC. The program features a nationally known ke
 ynote speaker\, moderated panels\, structured sponsor engagement periods\,
  a competitive networking experience\, and a closing reception.For more in
 formation about to support this new program\, please see review our  Tooth
  Talks Sponsorship Opportunities.
DTEND;VALUE=DATE:20261018
DTSTAMP:20260423T122425Z
DTSTART;VALUE=DATE:20261017
LOCATION:625 First Street\, Alexandria\, VA
SEQUENCE:0
SUMMARY:Tooth Talks: The Mid-Atlantic Dental Meeting 2026
UID:RFCALITEM639125438658173542
X-ALT-DESC;FMTTYPE=text/html:<strong>Location:</strong> Hotel AKA Alexandri
 a<br><strong>Address:</strong> 625 First Street\, Alexandria\, VA<br><stro
 ng>Email:</strong> <a href="mailto:info@nvds.org">info@nvds.org</a><br><st
 rong>Phone:</strong> 703/642-5297<br><br><h2 style="text-align: center">~S
 ave the Date~</h2><p>Tooth Talks: The Mid-Atlantic Dental Meeting is a new
 \, one-day continuing education and networking program for dentists and te
 am members in Northern Virginia and Washington\, DC. The program features 
 a nationally known keynote speaker\, moderated panels\, structured sponsor
  engagement periods\, a competitive networking experience\, and a closing 
 reception.</p><p>For more information about to support this new program\, 
 please see review our&nbsp\; <a href="https://www.nvds.org/docs/localvanor
 thernvirginialibraries/default-document-library/tooth-talks-sponsorship-op
 portunities.pdf?sfvrsn=d88e96b1_1" title="Tooth Talks Sponsorship Opportun
 ities" data-sf-ec-document-immutable="true">Tooth Talks Sponsorship Opport
 unities</a>.</p>
END:VEVENT
END:VCALENDAR
